BEGIN:VCALENDAR
VERSION:2.0
PRODID:-//Chinese Historical Society of Southern California - ECPv6.15.20//NONSGML v1.0//EN
CALSCALE:GREGORIAN
METHOD:PUBLISH
X-WR-CALNAME:Chinese Historical Society of Southern California
X-ORIGINAL-URL:https://chssc.org
X-WR-CALDESC:Events for Chinese Historical Society of Southern California
REFRESH-INTERVAL;VALUE=DURATION:PT1H
X-Robots-Tag:noindex
X-PUBLISHED-TTL:PT1H
BEGIN:VTIMEZONE
TZID:America/Los_Angeles
BEGIN:DAYLIGHT
TZOFFSETFROM:-0800
TZOFFSETTO:-0700
TZNAME:PDT
DTSTART:20220313T100000
END:DAYLIGHT
BEGIN:STANDARD
TZOFFSETFROM:-0700
TZOFFSETTO:-0800
TZNAME:PST
DTSTART:20221106T090000
END:STANDARD
BEGIN:DAYLIGHT
TZOFFSETFROM:-0800
TZOFFSETTO:-0700
TZNAME:PDT
DTSTART:20230312T100000
END:DAYLIGHT
BEGIN:STANDARD
TZOFFSETFROM:-0700
TZOFFSETTO:-0800
TZNAME:PST
DTSTART:20231105T090000
END:STANDARD
BEGIN:DAYLIGHT
TZOFFSETFROM:-0800
TZOFFSETTO:-0700
TZNAME:PDT
DTSTART:20240310T100000
END:DAYLIGHT
BEGIN:STANDARD
TZOFFSETFROM:-0700
TZOFFSETTO:-0800
TZNAME:PST
DTSTART:20241103T090000
END:STANDARD
BEGIN:DAYLIGHT
TZOFFSETFROM:-0800
TZOFFSETTO:-0700
TZNAME:PDT
DTSTART:20250309T100000
END:DAYLIGHT
BEGIN:STANDARD
TZOFFSETFROM:-0700
TZOFFSETTO:-0800
TZNAME:PST
DTSTART:20251102T090000
END:STANDARD
END:VTIMEZONE
BEGIN:VEVENT
DTSTART;VALUE=DATE:20231023
DTEND;VALUE=DATE:20241026
DTSTAMP:20260424T115233
CREATED:20231023T183936Z
LAST-MODIFIED:20241016T144629Z
UID:10550-1698019200-1729900799@chssc.org
SUMMARY:Where You Stand: Chinatown 1880 to 1939
DESCRIPTION:WHERE YOU STAND: CHINATOWN 1880 TO 1939\n(你所處的位置: 唐人街 1880 年至 1939 年)\nWaiting Room Gallery\nVisit the new exhibit in Union Station. CHSSC provided support for this project. \n \nUnion Station stands at the site of Los Angeles’ original Chinatown. This once vibrant community of families\, businesses\, and associations with roots going back to the middle of the 19th century was a place where the Chinese community and Chinatown persisted\, grew rapidly\, and thrived. Where You Stand: Chinatown 1880 to 1939 invites participants into the center of the vibrant community of families\, businesses\, and associations through a multi-dimensional experience of the Chinese immigrant community of early Los Angeles. \nView historic photographs\, listen to oral history recordings\, and use augmented reality to see artifact materials superimposed onto other locations around Union Station.
URL:https://chssc.org/event/where-you-stand-chinatown-1880-to-1939/
LOCATION:Los Angeles Union Staton\, 800 N Alameda St\, Los Angeles\, CA\, 90012\, United States
END:VEVENT
BEGIN:VEVENT
DTSTART;TZID=America/Los_Angeles:20241019T130000
DTEND;TZID=America/Los_Angeles:20241019T140000
DTSTAMP:20260424T115233
CREATED:20241016T145854Z
LAST-MODIFIED:20241016T145854Z
UID:13532-1729342800-1729346400@chssc.org
SUMMARY:Where You Stand: Chinatown 1880-1939 Exhibit Tour
DESCRIPTION:Last chance to view the exhibit before it closes! RSVP to info@chssc.org if you want to attend.
URL:https://chssc.org/event/where-you-stand-chinatown-1880-1939-exhibit-tour/
LOCATION:Los Angeles Union Staton\, 800 N Alameda St\, Los Angeles\, CA\, 90012\, United States
END:VEVENT
BEGIN:VEVENT
DTSTART;TZID=America/Los_Angeles:20241024T190000
DTEND;TZID=America/Los_Angeles:20241024T200000
DTSTAMP:20260424T115233
CREATED:20241022T194233Z
LAST-MODIFIED:20241022T194233Z
UID:13546-1729796400-1729800000@chssc.org
SUMMARY:The Commemoration of the Chinese Massacre of 1871
DESCRIPTION:CHSSC is a community partner for this event. Registration is required for both in-person and virtual attendess. \nClick to register.
URL:https://chssc.org/event/the-commemoration-of-the-chinese-massacre-of-1871/
LOCATION:Pico House\, 424 N. Main St.\, Los Angeles\, CA\, 90012\, United States
END:VEVENT
END:VCALENDAR