BEGIN:VCALENDAR
VERSION:2.0
PRODID:-//Chinese Historical Society of Southern California - ECPv6.15.20//NONSGML v1.0//EN
CALSCALE:GREGORIAN
METHOD:PUBLISH
X-ORIGINAL-URL:https://chssc.org
X-WR-CALDESC:Events for Chinese Historical Society of Southern California
REFRESH-INTERVAL;VALUE=DURATION:PT1H
X-Robots-Tag:noindex
X-PUBLISHED-TTL:PT1H
BEGIN:VTIMEZONE
TZID:America/Los_Angeles
BEGIN:DAYLIGHT
TZOFFSETFROM:-0800
TZOFFSETTO:-0700
TZNAME:PDT
DTSTART:20220313T100000
END:DAYLIGHT
BEGIN:STANDARD
TZOFFSETFROM:-0700
TZOFFSETTO:-0800
TZNAME:PST
DTSTART:20221106T090000
END:STANDARD
BEGIN:DAYLIGHT
TZOFFSETFROM:-0800
TZOFFSETTO:-0700
TZNAME:PDT
DTSTART:20230312T100000
END:DAYLIGHT
BEGIN:STANDARD
TZOFFSETFROM:-0700
TZOFFSETTO:-0800
TZNAME:PST
DTSTART:20231105T090000
END:STANDARD
BEGIN:DAYLIGHT
TZOFFSETFROM:-0800
TZOFFSETTO:-0700
TZNAME:PDT
DTSTART:20240310T100000
END:DAYLIGHT
BEGIN:STANDARD
TZOFFSETFROM:-0700
TZOFFSETTO:-0800
TZNAME:PST
DTSTART:20241103T090000
END:STANDARD
BEGIN:DAYLIGHT
TZOFFSETFROM:-0800
TZOFFSETTO:-0700
TZNAME:PDT
DTSTART:20250309T100000
END:DAYLIGHT
BEGIN:STANDARD
TZOFFSETFROM:-0700
TZOFFSETTO:-0800
TZNAME:PST
DTSTART:20251102T090000
END:STANDARD
END:VTIMEZONE
BEGIN:VEVENT
DTSTART;VALUE=DATE:20231023
DTEND;VALUE=DATE:20241026
DTSTAMP:20260424T211837
CREATED:20231023T183936Z
LAST-MODIFIED:20241016T144629Z
UID:10550-1698019200-1729900799@chssc.org
SUMMARY:Where You Stand: Chinatown 1880 to 1939
DESCRIPTION:WHERE YOU STAND: CHINATOWN 1880 TO 1939\n(你所處的位置: 唐人街 1880 年至 1939 年)\nWaiting Room Gallery\nVisit the new exhibit in Union Station. CHSSC provided support for this project. \n \nUnion Station stands at the site of Los Angeles’ original Chinatown. This once vibrant community of families\, businesses\, and associations with roots going back to the middle of the 19th century was a place where the Chinese community and Chinatown persisted\, grew rapidly\, and thrived. Where You Stand: Chinatown 1880 to 1939 invites participants into the center of the vibrant community of families\, businesses\, and associations through a multi-dimensional experience of the Chinese immigrant community of early Los Angeles. \nView historic photographs\, listen to oral history recordings\, and use augmented reality to see artifact materials superimposed onto other locations around Union Station.
URL:https://chssc.org/event/where-you-stand-chinatown-1880-to-1939/
LOCATION:Los Angeles Union Staton\, 800 N Alameda St\, Los Angeles\, CA\, 90012\, United States
END:VEVENT
BEGIN:VEVENT
DTSTART;TZID=America/Los_Angeles:20240403T190000
DTEND;TZID=America/Los_Angeles:20240403T200000
DTSTAMP:20260424T211837
CREATED:20240323T212325Z
LAST-MODIFIED:20240323T214152Z
UID:12272-1712170800-1712174400@chssc.org
SUMMARY:April 2024 Program
DESCRIPTION:Register on Eventbrite
URL:https://chssc.org/event/april-2024-program/
LOCATION:Eventbrite
END:VEVENT
BEGIN:VEVENT
DTSTART;TZID=America/Los_Angeles:20240412T110000
DTEND;TZID=America/Los_Angeles:20240412T120000
DTSTAMP:20260424T211837
CREATED:20240411T225516Z
LAST-MODIFIED:20240411T225516Z
UID:12738-1712919600-1712923200@chssc.org
SUMMARY:Ching Ming Observance
DESCRIPTION:Date for our Ching Ming observance has changed due to the possibility of rain on Saturday\, April 13. \nThe new date and time for our Ching Ming observance is Friday\, April 12\, 11am-12pm at the 19th Century Chinese Shrine at the east end of Evergreen Cemetery.
URL:https://chssc.org/event/ching-ming-observance/
LOCATION:Evergreen Cemetery\, 204 N Evergreen Ave\, Los Angeles\, CA\, United States
END:VEVENT
END:VCALENDAR