BEGIN:VCALENDAR
VERSION:2.0
PRODID:-//Chinese Historical Society of Southern California - ECPv6.15.20//NONSGML v1.0//EN
CALSCALE:GREGORIAN
METHOD:PUBLISH
X-WR-CALNAME:Chinese Historical Society of Southern California
X-ORIGINAL-URL:https://chssc.org
X-WR-CALDESC:Events for Chinese Historical Society of Southern California
REFRESH-INTERVAL;VALUE=DURATION:PT1H
X-Robots-Tag:noindex
X-PUBLISHED-TTL:PT1H
BEGIN:VTIMEZONE
TZID:America/Los_Angeles
BEGIN:DAYLIGHT
TZOFFSETFROM:-0800
TZOFFSETTO:-0700
TZNAME:PDT
DTSTART:20220313T100000
END:DAYLIGHT
BEGIN:STANDARD
TZOFFSETFROM:-0700
TZOFFSETTO:-0800
TZNAME:PST
DTSTART:20221106T090000
END:STANDARD
BEGIN:DAYLIGHT
TZOFFSETFROM:-0800
TZOFFSETTO:-0700
TZNAME:PDT
DTSTART:20230312T100000
END:DAYLIGHT
BEGIN:STANDARD
TZOFFSETFROM:-0700
TZOFFSETTO:-0800
TZNAME:PST
DTSTART:20231105T090000
END:STANDARD
BEGIN:DAYLIGHT
TZOFFSETFROM:-0800
TZOFFSETTO:-0700
TZNAME:PDT
DTSTART:20240310T100000
END:DAYLIGHT
BEGIN:STANDARD
TZOFFSETFROM:-0700
TZOFFSETTO:-0800
TZNAME:PST
DTSTART:20241103T090000
END:STANDARD
END:VTIMEZONE
BEGIN:VEVENT
DTSTART;TZID=America/Los_Angeles:20230301T190000
DTEND;TZID=America/Los_Angeles:20230301T200000
DTSTAMP:20260425T175338
CREATED:20230220T164433Z
LAST-MODIFIED:20230220T164433Z
UID:8594-1677697200-1677700800@chssc.org
SUMMARY:March 2023 Program - My Unforgotten Seattle - A Memoir by Ron Chew
DESCRIPTION:Our May Program Speaker \nRon Chew is principal of Chew Communications\, a Seattle-based consulting firm which documents community history and helps museums and emerging non-profits cope with organizational growth. \nChew published his memoir\, “My Unforgotten Seattle” in 2020. He is also the author of “Reflections of Seattle’s Chinese Americans: The First 100 Years” (2003\, 2013)\, and “Remembering Silme Domingo and Gene Viernes: The Legacy of Filipino American Labor Activism” (2010). \nChew is a lifelong Seattle resident. He graduated from Franklin High School and attended the University of Washington\, where he majored in journalism. \nIn 2001\, Chew was appointed to the National Council for the Humanities by President Bill Clinton. He was a recipient of the Ford Foundation’s “Leadership for a Changing World” award and was named to the American Alliance of Museums “Centennial Honor Roll.” \nChew served on The Seattle Public Library Foundation board of directors during the successful 1998 “Libraries for All” capital campaign\, which raised over $80 million to build a new central library and support 27 neighborhood branches. He currently serves as vice president of the Board of Trustees. \n 
URL:https://chssc.org/event/march-2023-program-my-unforgotten-seattle-a-memoir-by-ron-chew/
LOCATION:Zoom
END:VEVENT
BEGIN:VEVENT
DTSTART;TZID=America/Los_Angeles:20230304T120000
DTEND;TZID=America/Los_Angeles:20230304T170000
DTSTAMP:20260425T175338
CREATED:20230303T195043Z
LAST-MODIFIED:20230303T195043Z
UID:8629-1677931200-1677949200@chssc.org
SUMMARY:CAM Springfest 2023
DESCRIPTION:
URL:https://chssc.org/event/cam-springfest-2023/
LOCATION:Chinese American Museum Los Angeles\, 425 N. Los Angeles St\, Los Angeles\, CA\, 90012\, United States
END:VEVENT
BEGIN:VEVENT
DTSTART;TZID=America/Los_Angeles:20230325T110000
DTEND;TZID=America/Los_Angeles:20230325T160000
DTSTAMP:20260425T175338
CREATED:20230316T234752Z
LAST-MODIFIED:20230316T234752Z
UID:8715-1679742000-1679760000@chssc.org
SUMMARY:Celebration of Life for Gilbert Hom
DESCRIPTION:You can also contact Gordon Hom if you would like to attend. He is coordinating the food for the celebration. His number is 562-397-3148.
URL:https://chssc.org/event/celebration-of-life-for-gilbert-hom/
LOCATION:Shadow Park Clubhouse\, 12800 South St\, Cerritos\, CA\, 90703\, United States
END:VEVENT
END:VCALENDAR