BEGIN:VCALENDAR
VERSION:2.0
PRODID:-//Chinese Historical Society of Southern California - ECPv6.15.20//NONSGML v1.0//EN
CALSCALE:GREGORIAN
METHOD:PUBLISH
X-ORIGINAL-URL:https://chssc.org
X-WR-CALDESC:Events for Chinese Historical Society of Southern California
REFRESH-INTERVAL;VALUE=DURATION:PT1H
X-Robots-Tag:noindex
X-PUBLISHED-TTL:PT1H
BEGIN:VTIMEZONE
TZID:America/Los_Angeles
BEGIN:DAYLIGHT
TZOFFSETFROM:-0800
TZOFFSETTO:-0700
TZNAME:PDT
DTSTART:20220313T100000
END:DAYLIGHT
BEGIN:STANDARD
TZOFFSETFROM:-0700
TZOFFSETTO:-0800
TZNAME:PST
DTSTART:20221106T090000
END:STANDARD
BEGIN:DAYLIGHT
TZOFFSETFROM:-0800
TZOFFSETTO:-0700
TZNAME:PDT
DTSTART:20230312T100000
END:DAYLIGHT
BEGIN:STANDARD
TZOFFSETFROM:-0700
TZOFFSETTO:-0800
TZNAME:PST
DTSTART:20231105T090000
END:STANDARD
BEGIN:DAYLIGHT
TZOFFSETFROM:-0800
TZOFFSETTO:-0700
TZNAME:PDT
DTSTART:20240310T100000
END:DAYLIGHT
BEGIN:STANDARD
TZOFFSETFROM:-0700
TZOFFSETTO:-0800
TZNAME:PST
DTSTART:20241103T090000
END:STANDARD
END:VTIMEZONE
BEGIN:VEVENT
DTSTART;TZID=America/Los_Angeles:20230201T190000
DTEND;TZID=America/Los_Angeles:20230201T200000
DTSTAMP:20260425T192907
CREATED:20230118T160357Z
LAST-MODIFIED:20230118T160357Z
UID:8466-1675278000-1675281600@chssc.org
SUMMARY:Secrets to Longevity by Dr. David Lowe
DESCRIPTION:In 2005 National Geographic released their findings of a search for the longest lived and healthiest people in the world.  They came up with 3 areas where longevity and health could be well documented.  They were called Blue Zones.  Later 2 more areas were added to this list.  Is there something in common with all of these areas?  What can we learn from these Blue Zones to help us live longer and healthier lives\, to not only add years to our life but add life to our years? \nDavid Lowe\, M.D. was born in Walla Walla\, Washington and grew up in Southern California.  He graduated from Loma Linda University School of Medicine in 1971 as a member of the Alpha Omega Alpha national honor medical society.  His internship was at the Harbor-UCLA Hospital in Torrance\, California\, and he completed his pediatrics residency at Childrens Hospital of Los Angeles.  He served 2 years in the United States Air Force as a pediatrician stationed at the Moody AFB in Valdosta\, Georgia.  Upon his return to Southern California\, he co-founded the Pleasant Valley Pediatric Medical Group in Camarillo\, CA.  He was soon involved in planning and directing community health programs through his church\, the Camarillo Seventh-day Adventist Church.  He and his wife Flo have led out in the Heartbeat program that identifies coronary artery disease risk factors\, health fairs\, the Full Plate Living weight loss program\, the Complete Health Improvement Program\, the Longevity Lifestyle Matters program and the Diabetes Undone program. They also co-produce the annual WHOLE Conference sponsored by the Camarillo SDA Church. \n 
URL:https://chssc.org/event/secrets-to-longevity-by-dr-david-lowe/
LOCATION:Eventbrite
END:VEVENT
BEGIN:VEVENT
DTSTART;TZID=America/Los_Angeles:20230204T090000
DTEND;TZID=America/Los_Angeles:20230204T130000
DTSTAMP:20260425T192907
CREATED:20230119T181749Z
LAST-MODIFIED:20230120T222405Z
UID:8482-1675501200-1675515600@chssc.org
SUMMARY:Chinatown Health Fair
DESCRIPTION:
URL:https://chssc.org/event/chinatown-health-fair/
LOCATION:First Chinese Baptist Church\, 942 Yale St\, Los Angeles\, CA\, 90012\, United States
ORGANIZER;CN="Asian Pacific Health Corps at UCLA":MAILTO:aphc@cpo.ucla.edu
END:VEVENT
BEGIN:VEVENT
DTSTART;TZID=America/Los_Angeles:20230208T190000
DTEND;TZID=America/Los_Angeles:20230208T200000
DTSTAMP:20260425T192907
CREATED:20230118T160743Z
LAST-MODIFIED:20230118T160743Z
UID:8468-1675882800-1675886400@chssc.org
SUMMARY:From China to Chinatown: My Po Po’s Journey by Hailey Soh
DESCRIPTION:From China to Chinatown: My Po Po’s Journey is a documentary by Hailey Soh that tells the stories of people who immigrated to Los Angeles Chinatown. Hailey created this documentary in the hopes that a public audience might learn more about the history of Los Angeles Chinatown. As the immigrant population in Chinatown grows older\, she wanted to help preserve the histories of those who helped build Los Angeles into the city it is today. She realizes that there are many untold immigrant stories and her documentary is only a snippet of the bigger picture. \nHailey’s documentary follows her grandma\, her Po Po\, Koon Tai Lee Kung\, along her journey from Guangzhou\, China to Chinatown\, Los Angeles. It also includes interviews from her grandmother’s daughter Helena and neighbor Chui King Joe which tell of the community that Chinatown provided for Chinese Immigrants. \nBorn and raised in Pasadena\, California\, Hailey Soh is a junior attending Blair High School and lives with her parents and younger sister. Hailey is active member of the student body and is involved in various clubs such as serving on the Associated Student Body as Junior Treasurer\, National Honors Society\, Girls’ Tennis Team\, and she even started her own club – The Broadcasting Club which creates weekly videos to inform students about school-related events and activities. In her free time\, Hailey likes to listen to music and play instruments such as the piano and the guitar\, and she also enjoys watching her favorite K-dramas on Netflix. She wants to pursue a future where she can continuously learn new things and encounter new experiences.
URL:https://chssc.org/event/from-china-to-chinatown-my-po-pos-journey-by-hailey-soh/
LOCATION:Eventbrite
END:VEVENT
BEGIN:VEVENT
DTSTART;TZID=America/Los_Angeles:20230228T063000
DTEND;TZID=America/Los_Angeles:20230228T193000
DTSTAMP:20260425T192907
CREATED:20230228T003116Z
LAST-MODIFIED:20230228T003324Z
UID:8613-1677565800-1677612600@chssc.org
SUMMARY:Presentation: What Your Mother Never Told You: Chinese American Traditions
DESCRIPTION:David Lei is putting on a great “lecture” tomorrow\, Tuesday February 28 at the San Francisco Public Library at 6:30 p.m. \nFor people who are unable to attend in person\, PLEASE register at the link below.  The link will take you to the SF Public Library website.
URL:https://chssc.org/event/presentation-what-your-mother-never-told-you-chinese-american-traditions/
LOCATION:San Francisco Public Library\, 100 Larkin Street\, San Francisco\, CA\, 94102\, United States
ORGANIZER;CN="San Francisco Public Library":MAILTO:info@sfpl.org
END:VEVENT
END:VCALENDAR