BEGIN:VCALENDAR
VERSION:2.0
PRODID:-//Chinese Historical Society of Southern California - ECPv6.15.20//NONSGML v1.0//EN
CALSCALE:GREGORIAN
METHOD:PUBLISH
X-ORIGINAL-URL:https://chssc.org
X-WR-CALDESC:Events for Chinese Historical Society of Southern California
REFRESH-INTERVAL;VALUE=DURATION:PT1H
X-Robots-Tag:noindex
X-PUBLISHED-TTL:PT1H
BEGIN:VTIMEZONE
TZID:America/Los_Angeles
BEGIN:DAYLIGHT
TZOFFSETFROM:-0800
TZOFFSETTO:-0700
TZNAME:PDT
DTSTART:20220313T100000
END:DAYLIGHT
BEGIN:STANDARD
TZOFFSETFROM:-0700
TZOFFSETTO:-0800
TZNAME:PST
DTSTART:20221106T090000
END:STANDARD
BEGIN:DAYLIGHT
TZOFFSETFROM:-0800
TZOFFSETTO:-0700
TZNAME:PDT
DTSTART:20230312T100000
END:DAYLIGHT
BEGIN:STANDARD
TZOFFSETFROM:-0700
TZOFFSETTO:-0800
TZNAME:PST
DTSTART:20231105T090000
END:STANDARD
BEGIN:DAYLIGHT
TZOFFSETFROM:-0800
TZOFFSETTO:-0700
TZNAME:PDT
DTSTART:20240310T100000
END:DAYLIGHT
BEGIN:STANDARD
TZOFFSETFROM:-0700
TZOFFSETTO:-0800
TZNAME:PST
DTSTART:20241103T090000
END:STANDARD
END:VTIMEZONE
BEGIN:VEVENT
DTSTART;TZID=America/Los_Angeles:20230104T190000
DTEND;TZID=America/Los_Angeles:20230104T200000
DTSTAMP:20260425T205033
CREATED:20221214T173720Z
LAST-MODIFIED:20221214T173720Z
UID:8218-1672858800-1672862400@chssc.org
SUMMARY:Ripples in Time: How the Early Chinese American Experience Shaped the Greatest Generation
DESCRIPTION:Our January program will feature two-book author Dr. Russell Low\, who will explore the early roots of Chinese in America and show how the WWII generation was connected to this past in ways they may not have fully understood. It will be a 1-hour multimedia presentation celebrating Chinese American history\, diversity\, valor\, and patriotism. \nRussell Low is a California-born 4th generation Chinese American physician who is a great-grandson of Hung Lai Wah\, a Transcontinental Railroad worker\, and Tom Ying\, a rescued child slave. Russell’s passion for research\, family history\, and storytelling come together in recently published novels entitled “Three Coins” and “The All-American Crew.” \nIn exploring the Ripples of Three Coins\, Russell celebrates the heroism of the Chinese Americans in WWII from a very personal perspective. On January 23\, 1943\, a B-24 Liberator bomber and its crew of ten men disappeared without a trace in New Guinea. Their families never knew what happened to them. Now\, 80 years later\, their long-forgotten letters and dusty photographs finally tell their story in the new narrative nonfiction work The All-American Crew: A True Story of a World War II Bomber and the Men Who Flew It.
URL:https://chssc.org/event/ripples-in-time-how-the-early-chinese-american-experience-shaped-the-greatest-generation/
LOCATION:Zoom
END:VEVENT
BEGIN:VEVENT
DTSTART;TZID=America/Los_Angeles:20230128T130000
DTEND;TZID=America/Los_Angeles:20230128T160000
DTSTAMP:20260425T205033
CREATED:20230115T184622Z
LAST-MODIFIED:20230115T184622Z
UID:8444-1674910800-1674921600@chssc.org
SUMMARY:124th Golden Dragon Lunar New Year Parade
DESCRIPTION:
URL:https://chssc.org/event/124th-golden-dragon-lunar-new-year-parade/
END:VEVENT
END:VCALENDAR