BEGIN:VCALENDAR
VERSION:2.0
PRODID:-//Chinese Historical Society of Southern California - ECPv6.15.20//NONSGML v1.0//EN
CALSCALE:GREGORIAN
METHOD:PUBLISH
X-WR-CALNAME:Chinese Historical Society of Southern California
X-ORIGINAL-URL:https://chssc.org
X-WR-CALDESC:Events for Chinese Historical Society of Southern California
REFRESH-INTERVAL;VALUE=DURATION:PT1H
X-Robots-Tag:noindex
X-PUBLISHED-TTL:PT1H
BEGIN:VTIMEZONE
TZID:UTC
BEGIN:STANDARD
TZOFFSETFROM:+0000
TZOFFSETTO:+0000
TZNAME:UTC
DTSTART:20200101T000000
END:STANDARD
END:VTIMEZONE
BEGIN:VTIMEZONE
TZID:America/Los_Angeles
BEGIN:DAYLIGHT
TZOFFSETFROM:-0800
TZOFFSETTO:-0700
TZNAME:PDT
DTSTART:20200308T100000
END:DAYLIGHT
BEGIN:STANDARD
TZOFFSETFROM:-0700
TZOFFSETTO:-0800
TZNAME:PST
DTSTART:20201101T090000
END:STANDARD
BEGIN:DAYLIGHT
TZOFFSETFROM:-0800
TZOFFSETTO:-0700
TZNAME:PDT
DTSTART:20210314T100000
END:DAYLIGHT
BEGIN:STANDARD
TZOFFSETFROM:-0700
TZOFFSETTO:-0800
TZNAME:PST
DTSTART:20211107T090000
END:STANDARD
BEGIN:DAYLIGHT
TZOFFSETFROM:-0800
TZOFFSETTO:-0700
TZNAME:PDT
DTSTART:20220313T100000
END:DAYLIGHT
BEGIN:STANDARD
TZOFFSETFROM:-0700
TZOFFSETTO:-0800
TZNAME:PST
DTSTART:20221106T090000
END:STANDARD
END:VTIMEZONE
BEGIN:VEVENT
DTSTART;TZID=UTC:20210901T190000
DTEND;TZID=UTC:20210901T200000
DTSTAMP:20260425T063923
CREATED:20210817T002851Z
LAST-MODIFIED:20210826T215914Z
UID:4284-1630522800-1630526400@chssc.org
SUMMARY:Chinatown Conversations - The Five Chinatowns: A Community History
DESCRIPTION:The newly established CHSSC Five Chinatowns project documents the history of five historic Chinese American neighborhoods in Los Angeles: New Chinatown\, Old Chinatown\, China City\, City Market\, and East Adams. The project draws on oral histories\, family collections\, archival newspaper research and more. Project co-leads Dr. Kelly Fong of UCLA and Dr. William Gow of CSU Sacramento will discuss the project and then lead a conversation with our current group of CHSSC interns about their community research. Join us to find out about more about what has been completed and what still lies ahead. \nhttps://www.eventbrite.com/e/chinatown-conversations-the-five-chinatowns-a-community-history-tickets-167611852563
URL:https://chssc.org/event/chinatown-conversations-the-five-chinatowns-a-community-history/
LOCATION:Eventbrite
END:VEVENT
BEGIN:VEVENT
DTSTART;TZID=UTC:20210720T170000
DTEND;TZID=UTC:20210720T183000
DTSTAMP:20260425T063923
CREATED:20210713T031818Z
LAST-MODIFIED:20210713T043807Z
UID:2646-1626800400-1626805800@chssc.org
SUMMARY:CAMLA Event - An Untold Past: Chinese Americans in the Midwest
DESCRIPTION:An Untold Past: Chinese Americans in the Midwest
URL:https://chssc.org/event/camla-event-an-untold-past-chinese-americans-in-the-midwest/
LOCATION:Eventbrite
END:VEVENT
BEGIN:VEVENT
DTSTART;TZID=UTC:20210526T190000
DTEND;TZID=UTC:20210526T200000
DTSTAMP:20260425T063923
CREATED:20210405T105212Z
LAST-MODIFIED:20210405T105212Z
UID:2197-1622055600-1622059200@chssc.org
SUMMARY:The History of the Chinese in Las Vegas
DESCRIPTION:Free to register. Dr. Sue Fawn Chung will be talking via Zoom about the history of Chinese people in Las Vegas on May 26 at 7 p.m. with the Neon Museum of Las Vegas. \nhttps://youtu.be/qVbnMqYgIX0V \n 
URL:https://chssc.org/event/the-history-of-the-chinese-in-las-vegas/
LOCATION:CA
END:VEVENT
BEGIN:VEVENT
DTSTART;TZID=UTC:20210522T100000
DTEND;TZID=UTC:20210522T113000
DTSTAMP:20260425T063923
CREATED:20210512T093656Z
LAST-MODIFIED:20210512T093656Z
UID:2253-1621677600-1621683000@chssc.org
SUMMARY:Chinese Family History Group of Southern California Webinar Series: Researching the World of Chinese Documents
DESCRIPTION:A CFHGSC webinar featuring Tony King\nSaturday\, May 22nd 10-11:30am PDT \n\n\n\n\n\n\n\nRegister Here\n\n\n\n\n\n\n\n\n\n\n\n\n\n\n\n\n\nDocuments commonly used in Chinese genealogy research are family records like the jiapu/zupu and local gazetteers. Tony King will address both of these critical tools but will also provide an introduction into the lesser known world of other documents and resource materials that originated in China. To name a few\, this includes marriage agreements\, property records\, residential registrations\, census records\, examination rosters\, and obituaries. He will discuss the possible value these have to our genealogical research as well as repositories such as archives\, libraries\, the internet\, and search strategies. \n\n\n\n\n\n\n\n\n\n\n\nBorn and raised in the San Francisco Bay Area\, Tony King is of Toisanese roots. His ancestors immigrated to the U.S. in the late 1800’s. Since entering retirement some ten years ago\, he has concentrated on searching out his Chinese roots. He has conducted research during extended stays in China\, as well as during trips to California\, Hawaii\, Oregon\, Washington\, New York\, and Canada.  Tony serves as a volunteer for FamilySearch\, consulting with patrons seeking assistance.
URL:https://chssc.org/event/chinese-family-history-group-of-southern-california-webinar-series-researching-the-world-of-chinese-documents/
LOCATION:CA
END:VEVENT
BEGIN:VEVENT
DTSTART;TZID=UTC:20210514T190000
DTEND;TZID=UTC:20210514T203000
DTSTAMP:20260425T063923
CREATED:20210508T100728Z
LAST-MODIFIED:20210508T100728Z
UID:2248-1621018800-1621024200@chssc.org
SUMMARY:The Story of the Fabulous Fong Wan: Chinese Herbalist\, Night Club Owner\, and Showman
DESCRIPTION:https://artdecola.org/events-calendar/fong-wan-nightclubs-2021 \n\n\n“We are delighted to welcome former Art Deco Society of Los Angeles Board Member Randy Chong to the virtual stage to share some Art Deco era family history: The Story of the Fabulous Fong Wan: Chinese Herbalist\, Night Club Owner\, and Showman in a special program that will also feature a cocktail or two! \nThis is the story of Fong Wan (Randy’s great grandfather) and his empire in the San Francisco Bay Area. With $10 in his pocket and huge dreams\, Fong Wan arrived in San Francisco at the age of 17 in 1900 to become an herbalist. Treating Chinese and Caucasians\, he became the leading herbalist in the country. Fong Wan didn’t stop there. His nature as a promoter and keen business acumen helped grow his modest café to an empire of a department store\, a shrimping fleet\, multiple restaurants and nightclubs in Oakland and San Francisco. With exotic fan dancers\, magicians\, acrobats\, and singers imported from China\, he became the envy of fellow nightclubs in the 1930s to 50s\, including his big rival\, Charlie Low and the Forbidden City.” \n\n\n\n\n \n \n\n\n\n\n\n\n\nThis program is free to Art Deco Society of Los Angeles members. Members can use the button below to get to the ticketing page. When you log into your ADSLA account\, you will have the option of ordering a free ticket. \nGeneral admission is $10. \n\n\n\n\nTICKETS
URL:https://chssc.org/event/the-story-of-the-fabulous-fong-wan-chinese-herbalist-night-club-owner-and-showman/
LOCATION:CA
END:VEVENT
BEGIN:VEVENT
DTSTART;TZID=UTC:20210511T170000
DTEND;TZID=UTC:20210511T183000
DTSTAMP:20260425T063923
CREATED:20210508T100513Z
LAST-MODIFIED:20210508T100513Z
UID:2246-1620752400-1620757800@chssc.org
SUMMARY:Tea Talk: Exploring the History and Diversity of Indian Teas
DESCRIPTION:The much-anticipated return of Tea Talk is here! CAM is honored to welcome two Indian tea experts\, Husna-Tara Prakash and Shalini Prakash Agarwal who are members of one of India’s pioneering tea-planting families at the Glenburn Tea Estate located high in the Himalayas. On May 11\, 2021 from 5 – 6:30pm PDT for Tea Talk: Exploring the History and Diversity of Indian Teas.  \n\n\n\n\n\n\n\nHusna-Tara Prakash and Shalini Prakash Agarwal will share the history of tea in India as well as glimpses into the cultivation and rituals of tea production from their own tea estate. Accompanying the program will be Tea Talk host Lan Ong\, FCAM board member and Managing Director of @winghopfung. 
URL:https://chssc.org/event/tea-talk-exploring-the-history-and-diversity-of-indian-teas/
LOCATION:CA
END:VEVENT
BEGIN:VEVENT
DTSTART;TZID=UTC:20210510T060000
DTEND;TZID=UTC:20210510T210000
DTSTAMP:20260425T063923
CREATED:20210501T024647Z
LAST-MODIFIED:20210501T024746Z
UID:2232-1620626400-1620680400@chssc.org
SUMMARY:China Society: A Pebble in the Sand: Burma/Myanmar by Pierre Odier
DESCRIPTION:May Zoom meeting will be on May 10 th \, the second Monday in May at 6:00P.M. \nA Pebble in the Sand \nPierre Odier\, one of my favorite speakers\, will share his latest volume of his A Pebble the Sand series\, Burma/Myanmar. His past programs have taken us to Tibet\, the Orient Express\, Mongolia\, some minority tribes in China. He focuses on the minority ethnic tribes of the Golden Triangle of Burma. This rugged area which includes tribes of headhunters is within walking distance of the Chinese border. Many of the tribes had ties with areas in China. One of Pierre’s great gifts is his ability to communicate and quickly connect with all kinds of people and his love of ethnic arts and crafts. He is not the ordinary tourist. Experience Burma though the eyes and photographs of Pierre and gain insights on ethnic people you would never imagine. \nBe sure to register for the Zoom program through Eventbrite: https://www.eventbrite.com/e/a-pebble-in-the-sand-burmamyanmar-by-pierre-odier-tickets-152423399491
URL:https://chssc.org/event/china-society-a-pebble-in-the-sand-burma-myanmar-by-pierre-odier/
LOCATION:CA
ATTACH;FMTTYPE=image/jpeg:https://chssc.org/wp-content/uploads/Myanmar-map-boundaries-cities-locator.jpg
END:VEVENT
BEGIN:VEVENT
DTSTART;TZID=UTC:20210508T110000
DTEND;TZID=UTC:20210508T120000
DTSTAMP:20260425T063923
CREATED:20210508T101427Z
LAST-MODIFIED:20210508T101428Z
UID:2250-1620471600-1620475200@chssc.org
SUMMARY:Far East Deep South
DESCRIPTION:fareastdeepsouth.com \nhttps://www.eventbrite.com/e/caca-presents-far-east-deep-south-film-discussion-registration-150279306451 \n\nJoin director Larissa Lam\, producer Baldwin Chiu and C.A.C.A. National past president\, Carolyn Chan from Mississippi as they discuss the award winning documentary film Far East Deep South after the PBS/WORLD Channel premiere. Please check your local listings at http://bit.ly/ARF_FarEDeepS \nThis deeply moving story offers a poignant perspective on race relations\, immigration and the deep roots of Chinese Americans in our national identity. \nAs America continues to deal with a rash of anti-Asian sentiment\, we’ll discuss how understanding the history of Chinese in America has implications for not just Asians\, but other communities today. We’ll also hear more about the experiences of the Chinese in the American South and how the effects of the Chinese Exclusion Act are still felt now. \nFar East Deep South follows Charles Chiu and his family (including his son\, producer Baldwin Chiu\, and daughter-in-law\, director Larissa Lam) as they travel from California to Mississippi to find answers about Charles’ father\, K.C. Lou\, and subsequently explore the history of the Chinese community in the Deep South during Segregation and the Chinese Exclusion era. To learn more about this documentary visit www.FarEastDeepSouth.com or see the trailer below. \nAfter May 4\, watch Far East Deep South online on the PBS App or at http://bit.ly/ARF_FarEDeepS \n\n 
URL:https://chssc.org/event/far-east-deep-south/
LOCATION:CA
END:VEVENT
BEGIN:VEVENT
DTSTART;TZID=UTC:20210506T163000
DTEND;TZID=UTC:20210506T180000
DTSTAMP:20260425T063923
CREATED:20210424T060045Z
LAST-MODIFIED:20210424T060045Z
UID:2207-1620318600-1620324000@chssc.org
SUMMARY:ASIAN AMERICAN RESISTANCE: 150 YEARS AND COUNTING
DESCRIPTION:ASIAN AMERICAN RESISTANCE: 150 YEARS AND COUNTING\n\nAnti-Asian hate crimes in Atlanta\, OC\, Oakland\, and New York are not new. As early as 1871\, 19 Chinese Americans were lynched and killed in the Los Angeles Massacre. Asian Americans have been victims of racial profiling\, scapegoating\, and violence for over 150 years. \nAnd we have resisted such systemic racism to claim our share of the American dream. Know our history; voice our resistance. \n\n\nThursday\, 6 May 2021\, 4:30 – 6 pm \nZoom ID: 957 7832 3103 \nJoin from PC\, Mac\, Linux\, iOS or Android: https://cccconfer.zoom.us/j/95778323103 \nOr iPhone one-tap (US Toll): +16699006833\,95778323103# or +13462487799\,95778323103# \n  \nPanelists: \nDr. Kari Bolen – Chief Diversity\, Equity\, and Inclusion Officer\, Pasadena City College \nDr. Gay Q. Yuen – Friends of the Chinese American Museum and Asian Youth Center \nProfessor Marshall Wong – L.A. Commission on Human Relations \nQ and A to follow \nSponsored by PCC Coalition of Asian Pacific Employees\, Office of Student Life\, and Office of Student Services.
URL:https://chssc.org/event/asian-american-resistance-150-years-and-counting/
LOCATION:CA
END:VEVENT
BEGIN:VEVENT
DTSTART;TZID=UTC:20210505T190000
DTEND;TZID=UTC:20210505T200000
DTSTAMP:20260425T063923
CREATED:20210421T021927Z
LAST-MODIFIED:20210421T021927Z
UID:2204-1620241200-1620244800@chssc.org
SUMMARY:A Vision of Justice: Tyrus Wong & The Cultural Continuum of New Chinatown
DESCRIPTION:A Conversation about Art & Equality \nA Vision of Justice: Tyrus Wong & The Cultural Continuum of New Chinatown  \nWednesday\, May\, 5\, 2021 \n7:00 PM PST \nJoin us for a conversation with the curator of A Vision of Justice: Tyrus Wong & The Cultural Continuum of New Chinatown\, Sonia Mak\, as we learn about her discoveries in researching the relationship between Tyrus Wong and the painting’s patron\, immigration lawyer Y.C. Hong. Special guests\, performance artist Kristina Wong and attorney George Yin\, will join the curator in considering the legacy of these pioneers against the ongoing struggle for equality. \nRSVP HERE \nSpeakers: \nSonia Mak\, curator of A Vision of Justice\, is a curator\, writer\, and arts administrator. Ms. Mak was one of two founding curators at the Chinese American Museum and an NEH Summer Institute Fellow to advance Asian American Art History. She is co-founder and co-curator of Art Salon Chinatown\, a showcase for contemporary Asian diasporic artists. She holds a BA in Art History from San Francisco State University and a MA from University of California\, Riverside. Ms. Mak curated ’Round the Clock: Chinese American Artists Working in Los Angeles\, as part of the Getty Foundation’s initiative\, Pacific Standard Time: Art in LA\, 1945-1980. She has worked at the Los Angeles County Museum of Art\, Los Angeles County Department of Arts & Culture\, Morono Kiang Gallery\, Craft Contemporary\, and Vincent Price Art Museum and currently serves as Advancement Officer at the Institute of Contemporary Art Los Angeles. \n\nKristina Wong is a performance artist\, comedian\, writer\, and elected representative of Koreatown Los Angeles whose work has been recognized through many grants\, including Creative Capital\, COLA Master Artist Fellowship from the City of Los Angeles Department of Cultural Affairs\, and eight Los Angeles Artist-in-Residence awards. Her long-running show\, Wong Flew Over the Cuckoo’s Nest\, looked at the high rates of depression and suicide among Asian American women and is now a concert film. Her recent piece\, Kristina Wong for Public Office\, is a simultaneous real-life stint as the elected representative in Koreatown Los Angeles and campaign rally show. During the pandemic\, she founded the Auntie Sewing Squad\, a collective of volunteers sewing facemasks for vulnerable communities. \n\nGeorge Yin is an attorney\, arts advocate\, and Board Member of the Vincent Price Art Museum Foundation. As an attorney with Kaufman Legal Group\, he advises candidates\, elected officials\, political committees\, ballot measure committees\, non-profit organizations\, and public agencies on local\, state\, and federal laws. He has over a decade of experience representing public agencies in public\, municipal\, education\, water\, and administrative law. He has served on the boards of the Chinese Historical Society of Southern California\, the Organization of Chinese Americans (Greater LA Chapter)\, the Asian Professional Exchange (APEX)\, and the Pacific Asia Museum Chinese Arts Council. He holds a J.D. from UCLA Law School\, an M.A. in Urban Planning from the UCLA Luskin School of Public Affairs\, an M.Sc. in Public Administration/Public Policy from the London School of Economics\, and a B.A. in Government from Cornell University
URL:https://chssc.org/event/a-vision-of-justice-tyrus-wong-the-cultural-continuum-of-new-chinatown/
LOCATION:CA
END:VEVENT
BEGIN:VEVENT
DTSTART;TZID=UTC:20210504T170000
DTEND;TZID=UTC:20210504T180000
DTSTAMP:20260425T063923
CREATED:20210414T031315Z
LAST-MODIFIED:20210414T031315Z
UID:2201-1620147600-1620151200@chssc.org
SUMMARY:It Matters: Revisiting Vincent Chin and His Historic Impact on the Asian American Movement
DESCRIPTION:The Chinese American Musuem is hosting a conversation with Paula Yoo and Pam Ng on May 4\, 2021\, @ 5 pm to discuss Yoo’s YA nonfiction book\, From a Whisper to a Rallying Cry: The Killing of Vincent Chin and the Trial that Galvanized the Asian American Movement. Paula and Pam will talk about the tragedy of Vincent Chin\, the resonating wounds of racial injustice\, and the present call to end discrimination towards Asian Americans so many years later.\nRegistration for this program is free\, click the link to register now camla.org/ItMatters\nFrom a Whisper to a Rallying Cry\, releases on April 20\, 2021. To pre-order your copy of the book visit Eso Won Books – An Independent Black-Owned Bookshop in Los Angeles at www.esowonbookstore.com/.
URL:https://chssc.org/event/it-matters-revisiting-vincent-chin-and-his-historic-impact-on-the-asian-american-movement/
LOCATION:CA
END:VEVENT
BEGIN:VEVENT
DTSTART;TZID=America/Los_Angeles:20210420T190000
DTEND;TZID=America/Los_Angeles:20210420T203000
DTSTAMP:20260425T063923
CREATED:20210331T133824Z
LAST-MODIFIED:20210331T133824Z
UID:2187-1618945200-1618950600@chssc.org
SUMMARY:A Chinese American Giant: The Y.C. Hong Story
DESCRIPTION:Join C.A.C.A for their virtual program\, “A Chinese American Giant: The Y.C. Hong Story” on April 20 @ 7 pm PDT. Register here: https://ychongdoc.eventbrite.com
URL:https://chssc.org/event/a-chinese-american-giant-the-y-c-hong-story/
LOCATION:CA
END:VEVENT
BEGIN:VEVENT
DTSTART;TZID=UTC:20210306T123000
DTEND;TZID=UTC:20210606T170000
DTSTAMP:20260425T063923
CREATED:20210304T141244Z
LAST-MODIFIED:20210304T141244Z
UID:2158-1615033800-1622998800@chssc.org
SUMMARY:CAM: Year of the Ox Exhibition
DESCRIPTION:“The Chinese American Museum welcomes the new year in our latest online exhibition\, “Year of the Ox\,” which features works from 14 dynamic artists.  Please share with your friends and family. \nWe are launching the exhibition during the Lantern Festival! Visit exhibitions.camla.org/yearoftheox/ on March 6th at 12:30 pm PST to view the premiere of the online exhibition. “Year of the Ox” will run from March 6 to June 6\, 2021. \n\n\nThis exhibition is organized by the Chinese American Museum in partnership with Albert Chau (@grumpybert). Major support for this exhibition is provided by the Friends of the Chinese American Museum and the Department of Cultural Affairs\, Los Angeles.  ”
URL:https://chssc.org/event/cam-year-of-the-ox-exhibition/
LOCATION:CA
END:VEVENT
END:VCALENDAR