BEGIN:VCALENDAR
VERSION:2.0
PRODID:-//Chinese Historical Society of Southern California - ECPv6.15.20//NONSGML v1.0//EN
CALSCALE:GREGORIAN
METHOD:PUBLISH
X-ORIGINAL-URL:https://chssc.org
X-WR-CALDESC:Events for Chinese Historical Society of Southern California
REFRESH-INTERVAL;VALUE=DURATION:PT1H
X-Robots-Tag:noindex
X-PUBLISHED-TTL:PT1H
BEGIN:VTIMEZONE
TZID:America/Los_Angeles
BEGIN:DAYLIGHT
TZOFFSETFROM:-0800
TZOFFSETTO:-0700
TZNAME:PDT
DTSTART:20240310T100000
END:DAYLIGHT
BEGIN:STANDARD
TZOFFSETFROM:-0700
TZOFFSETTO:-0800
TZNAME:PST
DTSTART:20241103T090000
END:STANDARD
BEGIN:DAYLIGHT
TZOFFSETFROM:-0800
TZOFFSETTO:-0700
TZNAME:PDT
DTSTART:20250309T100000
END:DAYLIGHT
BEGIN:STANDARD
TZOFFSETFROM:-0700
TZOFFSETTO:-0800
TZNAME:PST
DTSTART:20251102T090000
END:STANDARD
BEGIN:DAYLIGHT
TZOFFSETFROM:-0800
TZOFFSETTO:-0700
TZNAME:PDT
DTSTART:20260308T100000
END:DAYLIGHT
BEGIN:STANDARD
TZOFFSETFROM:-0700
TZOFFSETTO:-0800
TZNAME:PST
DTSTART:20261101T090000
END:STANDARD
BEGIN:DAYLIGHT
TZOFFSETFROM:-0800
TZOFFSETTO:-0700
TZNAME:PDT
DTSTART:20270314T100000
END:DAYLIGHT
BEGIN:STANDARD
TZOFFSETFROM:-0700
TZOFFSETTO:-0800
TZNAME:PST
DTSTART:20271107T090000
END:STANDARD
END:VTIMEZONE
BEGIN:VEVENT
DTSTART;VALUE=DATE:20251121
DTEND;VALUE=DATE:20260301
DTSTAMP:20260423T134440
CREATED:20251121T181303Z
LAST-MODIFIED:20251121T181303Z
UID:15224-1763683200-1772323199@chssc.org
SUMMARY:LTHS Short Story Contest 2026
DESCRIPTION:LITTLE TOKYO HISTORICAL SOCIETY SEEKS ENTRIES FOR 2026 SHORT STORY CONTEST \nThe Little Tokyo Historical Society (LTHS)\, which is celebrating its 20th anniversary in 2026\, seeks fictional short stories for its 13th annual Imagine Little Tokyo short story contest in the categories of English language\, Japanese language and youth (18 and younger). The deadline is February 28\, 2026 midnight Pacific Time. The contest is presented by LTHS in partnership with the Japanese American National Museum’s Discover Nikkei project. \nThe purpose of the contest is to raise awareness of Little Tokyo through a creative story that takes place in Little Tokyo. The story has to be fictional and set in a current\, past or future Little Tokyo in the City of Los Angeles\, California. The short story committee will be specifically looking for stories that capture the spirit and sense of Little Tokyo. Both generative AI and plagiarism are strictly prohibited. Each category winner will be awarded $500 in cash with their short story being published in Discover Nikkei and Little Tokyo Historical Society website. A special anniversary hybrid (in-person and virtual) award ceremony and dramatic readings of the winning stories are also being planned for 2026 at the Japanese American National Museum. \nFor more information and guidelines\, refer to the Little Tokyo Historical Society’s website: https://www.littletokyohs.org/. \nIf you would like to financially contribute to the contest\, e-mail imaginelittletokyo@gmail.com
URL:https://chssc.org/event/lths-short-story-contest-2026/
END:VEVENT
BEGIN:VEVENT
DTSTART;VALUE=DATE:20260116
DTEND;VALUE=DATE:20260323
DTSTAMP:20260423T134440
CREATED:20260107T211419Z
LAST-MODIFIED:20260112T182119Z
UID:15304-1768521600-1774223999@chssc.org
SUMMARY:Sing Lee Theatre Film Series
DESCRIPTION:Presented in partnership with the UCLA Center for Chinese Studies.\nSeries\nEchoes From Spring Street: The World of Sing Lee and Chinese-Language Cinema in L.A.\n \nAt the Friday\, January 16 screening\, Janet Louie\, PhD Candidate at Harvard University Department of East Asian Languages and Civilization\, along with Kurt\, Willie Lew’s nephew\, will be speaking on opening night about the history of the Sing Lee theater\, an important part of Los Angeles film history as well as Chinatown’s history. \nClick to view event
URL:https://chssc.org/event/sing-lee-theatre-film-series/
LOCATION:Billy Wilder Theater\, 10899 Wilshire Blvd\, Los Angeles\, CA\, 90024\, United States
END:VEVENT
BEGIN:VEVENT
DTSTART;TZID=America/Los_Angeles:20260204T190000
DTEND;TZID=America/Los_Angeles:20260204T200000
DTSTAMP:20260423T134440
CREATED:20260127T173053Z
LAST-MODIFIED:20260127T174149Z
UID:15330-1770231600-1770235200@chssc.org
SUMMARY:February 2026 Program
DESCRIPTION:“Little Manila in DTLA\, and Carlos Bulosan’s Los Angeles”\nSpeaker Biography: \nGerald G\, Gubatan is co-editor of the anthology\, “Filipinotown:  Voices From Los Angeles\,” a collection of stories by and about people connected to Historic Filipinotown.  Gerald is an Urban Planner who has served elected officials at L. A. City Hall and Sacramento’s State Capitol.  He is the founding board president of Fil-Am Arts\, Inc.  A proud graduate of Belmont High School in Los Angeles\, Gerald attained a Bachelor of Arts degree in Sociology from UCLA and completed graduate studies in urban planning at California Polytechnic University\, Pomona. \nClick to register
URL:https://chssc.org/event/february-2026-program/
LOCATION:Eventbrite
END:VEVENT
BEGIN:VEVENT
DTSTART;TZID=America/Los_Angeles:20260221T090000
DTEND;TZID=America/Los_Angeles:20260221T130000
DTSTAMP:20260423T134440
CREATED:20260216T204522Z
LAST-MODIFIED:20260216T210718Z
UID:15356-1771664400-1771678800@chssc.org
SUMMARY:Sierra Madre Playhouse
DESCRIPTION:
URL:https://chssc.org/event/sierra-madre-playhouse/
LOCATION:Sierra Madre Playhhouse\, 87 W Sierra Madre Blvd\, Sierra Madre\, CA\, 91024\, United States
END:VEVENT
BEGIN:VEVENT
DTSTART;TZID=America/Los_Angeles:20260221T130000
DTEND;TZID=America/Los_Angeles:20260221T160000
DTSTAMP:20260423T134440
CREATED:20260216T211357Z
LAST-MODIFIED:20260216T211357Z
UID:15363-1771678800-1771689600@chssc.org
SUMMARY:Golden Dragon Parade 2026
DESCRIPTION:
URL:https://chssc.org/event/golden-dragon-parade-2026/
END:VEVENT
BEGIN:VEVENT
DTSTART;TZID=America/Los_Angeles:20260311T190000
DTEND;TZID=America/Los_Angeles:20260325T203000
DTSTAMP:20260423T134440
CREATED:20260224T041536Z
LAST-MODIFIED:20260224T041536Z
UID:15366-1773255600-1774470600@chssc.org
SUMMARY:March 2026 Webinars
DESCRIPTION:Wednesday\, March 11\, 2026\nClick to register \n \n  \nWednesday\, March 25\, 2026\nClick to register
URL:https://chssc.org/event/march-2026-webinars/
LOCATION:Eventbrite
END:VEVENT
BEGIN:VEVENT
DTSTART;TZID=America/Los_Angeles:20260408T173000
DTEND;TZID=America/Los_Angeles:20260408T200000
DTSTAMP:20260423T134440
CREATED:20260325T164620Z
LAST-MODIFIED:20260406T154140Z
UID:15418-1775669400-1775678400@chssc.org
SUMMARY:April 2026 Program
DESCRIPTION:Our April program is in-person at the Golden Dragon Restaurant in Los Angeles Chinatown jointly sponsored by The China Society of Southern California. \nPurchase your dinner tickets\, $40/person\, by selecting the number of tickets you would like to purchase and click on the Get Tickets button. The cost of the ticket includes a 3% transaction fee. \n \nSpeaker Bio: \nRandel Urbauer is a photographer videographer with a BFA from Art Center College of Design.  For over 30 years\, he ran his advertising photography studio in the Brewery Arts Complex in Los Angeles.  His clients range from Cadillac to Cartier which took him to several international locations and dozens of cities within the US and Canada. In the early days of digital capture\, he won the digital image competition held by the Advertising Photographers of America.  He always enjoys sharing knowledge and collaborating within the arts community.  In 2013 he created a short film documentary based on the Los Angeles artist Lynn Foulkes which screened at the Hammer Museum’s Bing Theater.
URL:https://chssc.org/event/april-2026-program/
LOCATION:Golden Dragon Restaurant\, 960 N. Broadway\, Los Angeles\, CA\, 90012\, United States
END:VEVENT
BEGIN:VEVENT
DTSTART;TZID=America/Los_Angeles:20260506T190000
DTEND;TZID=America/Los_Angeles:20260506T200000
DTSTAMP:20260423T134440
CREATED:20260423T152352Z
LAST-MODIFIED:20260423T152352Z
UID:15513-1778094000-1778097600@chssc.org
SUMMARY:May 2026 Program
DESCRIPTION:Click to register \n \nSpeaker: David Chan \nDavid R. Chan is a charter member of the Chinese Historical Society of Southern California (officially member #8). As a member of the Society’s Board of Directors\, he also represented CHSSC with speaking and media appearances on Chinese American historical topics. After a decade long hiatus for his career as a tax attorney and familial responsibilities\, he re-emerged as a writer and observer on Chinese food in the United States\, weaving in aspects of our Chinese-American history into today’s Chinese foodie world.
URL:https://chssc.org/event/may-2026-program/
LOCATION:Eventbrite
END:VEVENT
BEGIN:VEVENT
DTSTART;TZID=America/Los_Angeles:20260709T170000
DTEND;TZID=America/Los_Angeles:20260709T200000
DTSTAMP:20260423T134440
CREATED:20260422T145436Z
LAST-MODIFIED:20260422T153403Z
UID:15494-1783616400-1783627200@chssc.org
SUMMARY:July 2026 Program
DESCRIPTION:Our July program\, jointly sponsored by The China Society of Southern California\, is an in-person book talk with best-selling author Lisa See and her newest book\, Daughters of the Sun and Moon\, followed by a banquet at the Golden Dragon Restaurant in Los Angeles Chinatown. \nPurchase your tickets\, $45/person. Select the number of tickets you would like to purchase and click on the Get Tickets button. The cost of the ticket includes a 3% transaction fee. \n \nABOUT THE BOOK \nBeloved New York Times best-selling author Lisa See draws on the vibrancy and turmoil of post-Civil War Los Angeles to tell the story of three Chinese women who managed to survive and\, eventually\, thrive\, despite all odds. \nIn 1870\, three Chinese women arrive in the small\, dusty\, and violent pueblo of Los Angeles\, Dove\, the bound-footed daughter of an imperial scholar\, is entrancing and innocent. These characteristics should bring her great rewards\, beginning with her arranged marriage to a much older merchant. Petal\, the big-footed daughter of peasants\, has grown up hungry and with dirt between her toes. In a moment of desperation\, Petal’s father sells her to buy money for rice seed and she is loaded onto a ship to the Gold Mountain – America – where she is once again sold. Moon is married to a doctor of traditional Chinese medicine. She is educated\, speaks fluent English\, and has been endowed with a face of great beauty\, yet her failed foot-binding as a child has left her with a limp that lessens her value in the eyes of many. \nEach woman has her own desires. Dove wants to love and be loved. Petal desires freedom\, and Moon seeks justice. Together they face a larger society that wishes them not one ounce of good will. Anti-Chinese sentiment is strong in Los Angeles\, and this eventually leads to the Night of Horrors during which all three women are challenged in ways they could not have imagined. Brought together by hardship and heartbreak\, they must use their bravery\, endurance\, and ability to “eat bitterness” to  discover their voices\, find freedom\, and connect through solace and friendship. Together they are daughters of the sun and moon. \nABOUT THE AUTHOR \nLisa See is the New York Times best-selling author of Lady Tan’s Circle of Women\, The Island of Sea Women\, The Tea Girl of Hummingbird Lane\, Snow Flower and the Secret Fan\, Peony in Love\, Shanghai Girls\, China Dolls\, and Dreams of Joy\, which debuted at #1. She is also the author of On Gold Mountain\, which tells the story of her Chinese American family’s settlement in Los Angeles. See was the recipient of the Golden Spike Award from the Chinese Historical Society of Southern California and the Historymaker’s Award from the Chinese American Museum. She was also named National Woman of the Year by the Organization of Chinese American Women.
URL:https://chssc.org/event/july-2026-program/
LOCATION:Golden Dragon Restaurant\, 960 N. Broadway\, Los Angeles\, CA\, 90012\, United States
END:VEVENT
END:VCALENDAR