BEGIN:VCALENDAR
VERSION:2.0
PRODID:-//Chinese Historical Society of Southern California - ECPv6.15.20//NONSGML v1.0//EN
CALSCALE:GREGORIAN
METHOD:PUBLISH
X-WR-CALNAME:Chinese Historical Society of Southern California
X-ORIGINAL-URL:https://chssc.org
X-WR-CALDESC:Events for Chinese Historical Society of Southern California
REFRESH-INTERVAL;VALUE=DURATION:PT1H
X-Robots-Tag:noindex
X-PUBLISHED-TTL:PT1H
BEGIN:VTIMEZONE
TZID:America/Los_Angeles
BEGIN:DAYLIGHT
TZOFFSETFROM:-0800
TZOFFSETTO:-0700
TZNAME:PDT
DTSTART:20240310T100000
END:DAYLIGHT
BEGIN:STANDARD
TZOFFSETFROM:-0700
TZOFFSETTO:-0800
TZNAME:PST
DTSTART:20241103T090000
END:STANDARD
BEGIN:DAYLIGHT
TZOFFSETFROM:-0800
TZOFFSETTO:-0700
TZNAME:PDT
DTSTART:20250309T100000
END:DAYLIGHT
BEGIN:STANDARD
TZOFFSETFROM:-0700
TZOFFSETTO:-0800
TZNAME:PST
DTSTART:20251102T090000
END:STANDARD
BEGIN:DAYLIGHT
TZOFFSETFROM:-0800
TZOFFSETTO:-0700
TZNAME:PDT
DTSTART:20260308T100000
END:DAYLIGHT
BEGIN:STANDARD
TZOFFSETFROM:-0700
TZOFFSETTO:-0800
TZNAME:PST
DTSTART:20261101T090000
END:STANDARD
END:VTIMEZONE
BEGIN:VEVENT
DTSTART;TZID=America/Los_Angeles:20250205T190000
DTEND;TZID=America/Los_Angeles:20250205T200000
DTSTAMP:20260424T073032
CREATED:20250122T160611Z
LAST-MODIFIED:20250122T162208Z
UID:14562-1738782000-1738785600@chssc.org
SUMMARY:February 2025 Program
DESCRIPTION:In the late nineteenth and early twentieth centuries\, many Chinese immigrants in inland Southern California labored on Chinese-operated truck farms known locally as “Chinese gardens.” These vegetable farmers provided a variety of fresh produce to Chinese and non-Chinese urban residents. A landscape archaeology analysis of Chinese-operated farms around the cities of Riverside and San Bernardino reveals that Chinese truck farming shaped the built environment in both the United States and China\, anti-immigration laws impacted the movement of Chinese laborers without American citizenship the most\, and that vegetable farms became part of a racialized landscape where harassment by law enforcement was common. Chinese truck farmers made invaluable agricultural contributions to inland Southern California and created alliances with non-Chinese landlords\, but ultimately their visibility on the landscape made them continual targets of race-based exclusion. \nBio: Laura Ng is a historical archaeologist who researches late nineteenth and early twentieth-century Chinese migrants and their transpacific lives. These migrants often lived in segregated communities\, but they also migrated back and forth between the U.S. and villages in the Pearl River Delta region of China. Laura is currently investigating racism and transnationalism at Chinese truck farms in Southern California and at the Evanston and Rock Springs Chinatowns in rural Southwestern Wyoming; the latter two sites are community-engaged projects conducted in collaboration with Dr. Dudley Gardner and Chinese \nClick to register
URL:https://chssc.org/event/february-2025-program/
LOCATION:Eventbrite
END:VEVENT
END:VCALENDAR