BEGIN:VCALENDAR
VERSION:2.0
PRODID:-//Chinese Historical Society of Southern California - ECPv6.15.20//NONSGML v1.0//EN
CALSCALE:GREGORIAN
METHOD:PUBLISH
X-WR-CALNAME:Chinese Historical Society of Southern California
X-ORIGINAL-URL:https://chssc.org
X-WR-CALDESC:Events for Chinese Historical Society of Southern California
REFRESH-INTERVAL;VALUE=DURATION:PT1H
X-Robots-Tag:noindex
X-PUBLISHED-TTL:PT1H
BEGIN:VTIMEZONE
TZID:America/Los_Angeles
BEGIN:DAYLIGHT
TZOFFSETFROM:-0800
TZOFFSETTO:-0700
TZNAME:PDT
DTSTART:20220313T100000
END:DAYLIGHT
BEGIN:STANDARD
TZOFFSETFROM:-0700
TZOFFSETTO:-0800
TZNAME:PST
DTSTART:20221106T090000
END:STANDARD
BEGIN:DAYLIGHT
TZOFFSETFROM:-0800
TZOFFSETTO:-0700
TZNAME:PDT
DTSTART:20230312T100000
END:DAYLIGHT
BEGIN:STANDARD
TZOFFSETFROM:-0700
TZOFFSETTO:-0800
TZNAME:PST
DTSTART:20231105T090000
END:STANDARD
BEGIN:DAYLIGHT
TZOFFSETFROM:-0800
TZOFFSETTO:-0700
TZNAME:PDT
DTSTART:20240310T100000
END:DAYLIGHT
BEGIN:STANDARD
TZOFFSETFROM:-0700
TZOFFSETTO:-0800
TZNAME:PST
DTSTART:20241103T090000
END:STANDARD
BEGIN:DAYLIGHT
TZOFFSETFROM:-0800
TZOFFSETTO:-0700
TZNAME:PDT
DTSTART:20250309T100000
END:DAYLIGHT
BEGIN:STANDARD
TZOFFSETFROM:-0700
TZOFFSETTO:-0800
TZNAME:PST
DTSTART:20251102T090000
END:STANDARD
END:VTIMEZONE
BEGIN:VEVENT
DTSTART;VALUE=DATE:20231023
DTEND;VALUE=DATE:20241026
DTSTAMP:20260425T033933
CREATED:20231023T183936Z
LAST-MODIFIED:20241016T144629Z
UID:10550-1698019200-1729900799@chssc.org
SUMMARY:Where You Stand: Chinatown 1880 to 1939
DESCRIPTION:WHERE YOU STAND: CHINATOWN 1880 TO 1939\n(你所處的位置: 唐人街 1880 年至 1939 年)\nWaiting Room Gallery\nVisit the new exhibit in Union Station. CHSSC provided support for this project. \n \nUnion Station stands at the site of Los Angeles’ original Chinatown. This once vibrant community of families\, businesses\, and associations with roots going back to the middle of the 19th century was a place where the Chinese community and Chinatown persisted\, grew rapidly\, and thrived. Where You Stand: Chinatown 1880 to 1939 invites participants into the center of the vibrant community of families\, businesses\, and associations through a multi-dimensional experience of the Chinese immigrant community of early Los Angeles. \nView historic photographs\, listen to oral history recordings\, and use augmented reality to see artifact materials superimposed onto other locations around Union Station.
URL:https://chssc.org/event/where-you-stand-chinatown-1880-to-1939/
LOCATION:Los Angeles Union Staton\, 800 N Alameda St\, Los Angeles\, CA\, 90012\, United States
END:VEVENT
BEGIN:VEVENT
DTSTART;TZID=America/Los_Angeles:20240103T190000
DTEND;TZID=America/Los_Angeles:20240103T200000
DTSTAMP:20260425T033933
CREATED:20231215T181841Z
LAST-MODIFIED:20231229T055903Z
UID:11192-1704308400-1704312000@chssc.org
SUMMARY:January 2024 Program
DESCRIPTION:Join us in ringing in the New Year as we reflect on the past\, celebrating the Chinese immigrant ancestors who paved the way for our American journey. In this continuation of “Three Coins\,” we delve into the tale of a young Chinese boy who\, armed with a blank journal\, a fortune teller’s scroll predicting his life’s path\, and an ardent desire to embrace American identity\, arrived in Oregon in 1877. \nDuring the 1880s in the Pacific Northwest\, Chinese communities faced expulsion from Tacoma\, Seattle\, Portland\, and Oregon City. However\, the story in the small town of Salem\, Oregon\, unfolded remarkably differently. In the midst of a social experiment\, figures like Hop Lee and George Sun\, alongside a handful of Chinese individuals\, crafted a unique narrative. \nLike our forebears\, these young Chinese immigrants confronted a world marked by exclusion through anti-Chinese laws and attitudes. Responding with resilience\, patience\, and humor\, they navigated these challenges\, forming friendships and achieving financial success. To realize his dream of putting down roots and starting a family\, Hop Lee must find the rarest of jewels—an American-born Chinese girl to form his own Willow Forest. \nWhile the Chinese eventually departed Salem by the 1930s\, the narrative of the Chinese and White communities in the city spanned four decades\, characterized by mutual respect and affection. This tale merits exploration\, particularly in light of today’s prevailing anti-Asian attitudes and rhetoric. \nThis book and presentation celebrate the immigrant spirit born from the diversity which is at the heart of our nation. \nCo-sponsored by: Chinese Historical Society of Southern California and The China Society of Southern California \nSpeaker Bio \nRussell Low is a physician with a passion for discovery and storytelling. His discoveries in the medical field have changed the way that his colleagues worldwide practice medicine and image disease. Discovery of his own roots began 30 years ago through the stories of his parents and their siblings. Growing up in Central California\, more American than Chinese\, his connection to Chinese culture and history was limited and incomplete. \nRussell frequently lectures on Chinese-American history\, and his family’s story has been featured on the History Channel\, National Public Radio\, the Voice of America\, and the Smithsonian Museum of American History.
URL:https://chssc.org/event/january-2024-program/
LOCATION:Eventbrite
END:VEVENT
END:VCALENDAR