BEGIN:VCALENDAR
VERSION:2.0
PRODID:-//Chinese Historical Society of Southern California - ECPv6.15.20//NONSGML v1.0//EN
CALSCALE:GREGORIAN
METHOD:PUBLISH
X-WR-CALNAME:Chinese Historical Society of Southern California
X-ORIGINAL-URL:https://chssc.org
X-WR-CALDESC:Events for Chinese Historical Society of Southern California
REFRESH-INTERVAL;VALUE=DURATION:PT1H
X-Robots-Tag:noindex
X-PUBLISHED-TTL:PT1H
BEGIN:VTIMEZONE
TZID:America/Los_Angeles
BEGIN:DAYLIGHT
TZOFFSETFROM:-0800
TZOFFSETTO:-0700
TZNAME:PDT
DTSTART:20220313T100000
END:DAYLIGHT
BEGIN:STANDARD
TZOFFSETFROM:-0700
TZOFFSETTO:-0800
TZNAME:PST
DTSTART:20221106T090000
END:STANDARD
BEGIN:DAYLIGHT
TZOFFSETFROM:-0800
TZOFFSETTO:-0700
TZNAME:PDT
DTSTART:20230312T100000
END:DAYLIGHT
BEGIN:STANDARD
TZOFFSETFROM:-0700
TZOFFSETTO:-0800
TZNAME:PST
DTSTART:20231105T090000
END:STANDARD
BEGIN:DAYLIGHT
TZOFFSETFROM:-0800
TZOFFSETTO:-0700
TZNAME:PDT
DTSTART:20240310T100000
END:DAYLIGHT
BEGIN:STANDARD
TZOFFSETFROM:-0700
TZOFFSETTO:-0800
TZNAME:PST
DTSTART:20241103T090000
END:STANDARD
END:VTIMEZONE
BEGIN:VEVENT
DTSTART;VALUE=DATE:20231005
DTEND;VALUE=DATE:20231008
DTSTAMP:20260425T081928
CREATED:20230829T164746Z
LAST-MODIFIED:20230829T164927Z
UID:9901-1696464000-1696723199@chssc.org
SUMMARY:Locating Kinship Across Space and Time
DESCRIPTION:The 1882 Foundation invites you to register for the second Chinese American Women in History conference\, to be held in Washington DC this fall. Themed\, “Locating Kinship Across Space and Time\,” the conference aims to explore how Chinese American women\, both as historical subjects and contemporary practitioners of history\, have forged interpersonal connections\, fostered care\, and facilitated community. \nWe will welcome scholars\, filmmakers\, creatives\, and community members alike to share their work exploring the multifaceted and complex experiences of Chinese American women. Topics include the figures of Soo Yong and Anna May Wong\, Chinese Americans in 1900’s mass entertainment\, Chinese American Hawai’i-based labor organizer Ah Quon McElrath\, and the legacies of Chinese American women filmmakers\, with many more subjects still to come. \nSet at cultural institutions across Washington DC\, the conference utilizes the breadth and depth of the 1882 Foundation’s partnerships with institutions\, organizations\, and individuals alike pursuing Asian American public history in the District and nationally. \n\nDay One (October 5th) at the Chinese American Museum DC & the Charles Sumner School Museum and Archives\nDay Two (October 6th) at the Charles Sumner School Museum and Archives\nDay Three (October 7th) at the Martin Luther King\, Jr. Library and the Smithsonian National Portrait Gallery\n\nAll conference sessions will be recorded and made available to attendees and the general public after the conference. \nRegister Here to Attend:  bit.ly/cawh2023
URL:https://chssc.org/event/locating-kinship-across-space-and-time/
ORGANIZER;CN="1882 Foundation":MAILTO:info@1882foundation.org
END:VEVENT
BEGIN:VEVENT
DTSTART;VALUE=DATE:20231006
DTEND;VALUE=DATE:20231008
DTSTAMP:20260425T081928
CREATED:20230224T160753Z
LAST-MODIFIED:20230224T160753Z
UID:8605-1696550400-1696723199@chssc.org
SUMMARY:2023 Yosemite Pilgrimage
DESCRIPTION:CHSSC has been conducting a pilgrimage to Yosemite National Park since 2012 in order to discover and highlight the contributions of the Chinese in the development of the park. Our 2023 pilgrimage will be held on October 6th\, 7th (arrive evening of Oct 5th\, depart Oct 8th). \nWhile the planning team finalizes the itinerary\, make your lodging plans now. Eugene Moy has reserved 2 large rental homes in the Redwoods in Yosemite complex in Wawona\, with room for 20-22 people\, but we are also encouraging people to gather groups of friends and make their own reservations. Contact Eugene at ewmoy49@gmail.com to coordinate. \nLearn about our 10th Annual Yosemite Sing Peak Pilgrimage in 2022 on our website: https://chssc.org/
URL:https://chssc.org/event/2023-yosemite-pilgrimage/
LOCATION:Yosemite National Park\, CA\, United States
END:VEVENT
BEGIN:VEVENT
DTSTART;TZID=America/Los_Angeles:20231007T170000
DTEND;TZID=America/Los_Angeles:20231007T210000
DTSTAMP:20260425T081928
CREATED:20230910T145834Z
LAST-MODIFIED:20230910T145834Z
UID:9973-1696698000-1696712400@chssc.org
SUMMARY:Chinatown Neighborhood Night Market
DESCRIPTION:Join Chinatown Community for Equitable Development’s (CCED) second annual Chinatown Neighborhood Night Market on October 7\, 5-9 pm\, and support legacy small businesses of Chinatown.
URL:https://chssc.org/event/chinatown-neighborhood-night-market/
LOCATION:Los Angeles Chinatown\, Los Angeles\, CA\, 90012\, United States
ORGANIZER;CN="Chinatown Community for Equitable Development":MAILTO:ccedchinatown@gmail.com
END:VEVENT
END:VCALENDAR