BEGIN:VCALENDAR
VERSION:2.0
PRODID:-//Chinese Historical Society of Southern California - ECPv6.15.20//NONSGML v1.0//EN
CALSCALE:GREGORIAN
METHOD:PUBLISH
X-ORIGINAL-URL:https://chssc.org
X-WR-CALDESC:Events for Chinese Historical Society of Southern California
REFRESH-INTERVAL;VALUE=DURATION:PT1H
X-Robots-Tag:noindex
X-PUBLISHED-TTL:PT1H
BEGIN:VTIMEZONE
TZID:America/Los_Angeles
BEGIN:DAYLIGHT
TZOFFSETFROM:-0800
TZOFFSETTO:-0700
TZNAME:PDT
DTSTART:20220313T100000
END:DAYLIGHT
BEGIN:STANDARD
TZOFFSETFROM:-0700
TZOFFSETTO:-0800
TZNAME:PST
DTSTART:20221106T090000
END:STANDARD
BEGIN:DAYLIGHT
TZOFFSETFROM:-0800
TZOFFSETTO:-0700
TZNAME:PDT
DTSTART:20230312T100000
END:DAYLIGHT
BEGIN:STANDARD
TZOFFSETFROM:-0700
TZOFFSETTO:-0800
TZNAME:PST
DTSTART:20231105T090000
END:STANDARD
BEGIN:DAYLIGHT
TZOFFSETFROM:-0800
TZOFFSETTO:-0700
TZNAME:PDT
DTSTART:20240310T100000
END:DAYLIGHT
BEGIN:STANDARD
TZOFFSETFROM:-0700
TZOFFSETTO:-0800
TZNAME:PST
DTSTART:20241103T090000
END:STANDARD
END:VTIMEZONE
BEGIN:VEVENT
DTSTART;TZID=America/Los_Angeles:20230914T183000
DTEND;TZID=America/Los_Angeles:20230914T193000
DTSTAMP:20260425T095557
CREATED:20230823T141407Z
LAST-MODIFIED:20230823T143125Z
UID:9863-1694716200-1694719800@chssc.org
SUMMARY:Facing Challenges and Limitations\, Where do Organized Chinese Associations Get Respect?
DESCRIPTION:Have questions about tongs or associations? Please email advance questions by September 7\, 2023\, to bacgg.gail@gmail.com or bacgg.jeannie@gmail.com. \nGeorge Chin (founder of Chinatown History & Culture Association) will provide a personal overview of SF’s Organized Associations and will discuss the roles of associations in the Community & Social Services. \nAdditionally\, Ding Lee\, director of Lee’s Family Association\, Ning Yung\, Bing Kong Tong\, Chinese Consolidated Benevolent Association and Chinatown History & Culture Association will share his experience about associations and help answer questions. \nChinese Tongs\, or organized associations\, have served five generations of Chinese Americans for over 175 years. They have earned respect for their contributions to the Chinese American community\, but they also face multiple challenges and limitations. Learn about Chinese Family Tongs/Associations and how they impacted your ancestors and may impact you today: \n\nPreservation of History\, Culture & Education\nGenealogy Research: Tongs have maintained membership and payment records for many years. This information can be valuable for people who are conducting genealogy research.\nChallenges and Limitations of Tongs\nWhere do Tongs get their respect?\n\nClick to register
URL:https://chssc.org/event/facing-challenges-and-limitations-where-do-organized-chinese-associations-get-respect/
LOCATION:Zoom
END:VEVENT
END:VCALENDAR