BEGIN:VCALENDAR
VERSION:2.0
PRODID:-//Chinese Historical Society of Southern California - ECPv6.15.20//NONSGML v1.0//EN
CALSCALE:GREGORIAN
METHOD:PUBLISH
X-ORIGINAL-URL:https://chssc.org
X-WR-CALDESC:Events for Chinese Historical Society of Southern California
REFRESH-INTERVAL;VALUE=DURATION:PT1H
X-Robots-Tag:noindex
X-PUBLISHED-TTL:PT1H
BEGIN:VTIMEZONE
TZID:America/Los_Angeles
BEGIN:DAYLIGHT
TZOFFSETFROM:-0800
TZOFFSETTO:-0700
TZNAME:PDT
DTSTART:20220313T100000
END:DAYLIGHT
BEGIN:STANDARD
TZOFFSETFROM:-0700
TZOFFSETTO:-0800
TZNAME:PST
DTSTART:20221106T090000
END:STANDARD
BEGIN:DAYLIGHT
TZOFFSETFROM:-0800
TZOFFSETTO:-0700
TZNAME:PDT
DTSTART:20230312T100000
END:DAYLIGHT
BEGIN:STANDARD
TZOFFSETFROM:-0700
TZOFFSETTO:-0800
TZNAME:PST
DTSTART:20231105T090000
END:STANDARD
BEGIN:DAYLIGHT
TZOFFSETFROM:-0800
TZOFFSETTO:-0700
TZNAME:PDT
DTSTART:20240310T100000
END:DAYLIGHT
BEGIN:STANDARD
TZOFFSETFROM:-0700
TZOFFSETTO:-0800
TZNAME:PST
DTSTART:20241103T090000
END:STANDARD
END:VTIMEZONE
BEGIN:VEVENT
DTSTART;TZID=America/Los_Angeles:20230604T100000
DTEND;TZID=America/Los_Angeles:20230604T123000
DTSTAMP:20260425T142744
CREATED:20230522T224646Z
LAST-MODIFIED:20230522T224646Z
UID:8973-1685872800-1685881800@chssc.org
SUMMARY:Asian Influence on Pasadena's Craftsman & Mid-Century Modern Homes
DESCRIPTION:Kansha Pasadena and the Chinese Historical Society of Southern California will be co-sponsoring a two-and-a-half-hour bus tour on “Asian Architectural Influence on Pasadena’s Craftsman and Mid Century Modern Homes” on Sunday\, June 4. \nPasadena has one of the best\, and most extensive\, collections of Asian influenced architecture in the United States. There are significant Asian architectural influences on four different residential building styles in Pasadena: “High style” Arts and Crafts by Greene and Greene and the Heineman Brothers\, vernacular Craftsman bungalows\, Mid Century Modern by Buff and Hensman and other Pasadena modernist architects\, and even in California Ranch Style Homes. \nThe tour will be narrated by Dave Nufer\, a presenter\, docent\, and program developer with Pasadena Heritage and the LA Conservancy.  \nThe co-sponsoring organization\, Kansha Pasadena\, is a leading Pasadena cultural organization celebrating and highlighting Asian American and Japanese American culture and history.  \nThis tour explores these\, sometimes subtle\, Chinese and Japanese architectural influences on thousands of Pasadena area homes\, influences that have helped to shape our cityscape. This bus tour will be passing by and stopping at numerous examples of Greene and Greene\, vernacular bungalow\, and  Mid Century Modern\, the Pacific Asia Museum and other Asian inflected architectural styles.  \nThe two-and-a-half-hour bus tour begins at Parking Lot I (Brookside Aquatics Center) at 10 AM. \nRose Bowl Stadium-Lot I\n1001 Rose Bowl Drive\nPasadena\, California 91103 \nTickets will also be available on the day of the tour\, if not sold out. \nPrice: $25.
URL:https://chssc.org/event/asian-influence-on-pasadenas-craftsman-mid-century-modern-homes/
LOCATION:Bus Tour
END:VEVENT
END:VCALENDAR