BEGIN:VCALENDAR
VERSION:2.0
PRODID:-//Chinese Historical Society of Southern California - ECPv6.15.20//NONSGML v1.0//EN
CALSCALE:GREGORIAN
METHOD:PUBLISH
X-WR-CALNAME:Chinese Historical Society of Southern California
X-ORIGINAL-URL:https://chssc.org
X-WR-CALDESC:Events for Chinese Historical Society of Southern California
REFRESH-INTERVAL;VALUE=DURATION:PT1H
X-Robots-Tag:noindex
X-PUBLISHED-TTL:PT1H
BEGIN:VTIMEZONE
TZID:America/Los_Angeles
BEGIN:DAYLIGHT
TZOFFSETFROM:-0800
TZOFFSETTO:-0700
TZNAME:PDT
DTSTART:20220313T100000
END:DAYLIGHT
BEGIN:STANDARD
TZOFFSETFROM:-0700
TZOFFSETTO:-0800
TZNAME:PST
DTSTART:20221106T090000
END:STANDARD
BEGIN:DAYLIGHT
TZOFFSETFROM:-0800
TZOFFSETTO:-0700
TZNAME:PDT
DTSTART:20230312T100000
END:DAYLIGHT
BEGIN:STANDARD
TZOFFSETFROM:-0700
TZOFFSETTO:-0800
TZNAME:PST
DTSTART:20231105T090000
END:STANDARD
BEGIN:DAYLIGHT
TZOFFSETFROM:-0800
TZOFFSETTO:-0700
TZNAME:PDT
DTSTART:20240310T100000
END:DAYLIGHT
BEGIN:STANDARD
TZOFFSETFROM:-0700
TZOFFSETTO:-0800
TZNAME:PST
DTSTART:20241103T090000
END:STANDARD
END:VTIMEZONE
BEGIN:VEVENT
DTSTART;TZID=America/Los_Angeles:20230523T190000
DTEND;TZID=America/Los_Angeles:20230523T203000
DTSTAMP:20260425T160135
CREATED:20230515T192722Z
LAST-MODIFIED:20230515T192722Z
UID:8909-1684868400-1684873800@chssc.org
SUMMARY:Two Pasadenas: Debate Over Internment Camps
DESCRIPTION:Admission: General $15; PMH Members $10 \nDuring World War II\, Pasadenans struggled with many questions. Was it right to lock Americans of Japanese descent in camps? What could be done to counter FDR’s War Relocation Authority? \nJoin Susie Ling\, Pasadena City College Professor of Asian American Studies and History\, for this presentation about the people who did their best to help their Japanese American neighbors. Pasadena’s Friends of the American Way – along with William Carr\, Hugh Anderson and PCC’s John Harbeson – sponsored the return of the first “test case” to the area\, 19-year-old Esther Takei (Nishio).\nPresentation will begin at 7:00 pm; PMH Galleries will be open for viewing at 6:00 pm. \n  \nImage: Esther Takei and PJC Superintendent John Harbeson in front of the C Building\, September 1944. The Rafu Shimpo\, 2019.
URL:https://chssc.org/event/two-pasadenas-debate-over-internment-camps/
LOCATION:Pasadena Museum of History\, 470 W. Walnut St\, Pasadena\, CA\, 91103\, United States
END:VEVENT
END:VCALENDAR