BEGIN:VCALENDAR
VERSION:2.0
PRODID:-//Chinese Historical Society of Southern California - ECPv6.15.20//NONSGML v1.0//EN
CALSCALE:GREGORIAN
METHOD:PUBLISH
X-ORIGINAL-URL:https://chssc.org
X-WR-CALDESC:Events for Chinese Historical Society of Southern California
REFRESH-INTERVAL;VALUE=DURATION:PT1H
X-Robots-Tag:noindex
X-PUBLISHED-TTL:PT1H
BEGIN:VTIMEZONE
TZID:America/Los_Angeles
BEGIN:DAYLIGHT
TZOFFSETFROM:-0800
TZOFFSETTO:-0700
TZNAME:PDT
DTSTART:20220313T100000
END:DAYLIGHT
BEGIN:STANDARD
TZOFFSETFROM:-0700
TZOFFSETTO:-0800
TZNAME:PST
DTSTART:20221106T090000
END:STANDARD
BEGIN:DAYLIGHT
TZOFFSETFROM:-0800
TZOFFSETTO:-0700
TZNAME:PDT
DTSTART:20230312T100000
END:DAYLIGHT
BEGIN:STANDARD
TZOFFSETFROM:-0700
TZOFFSETTO:-0800
TZNAME:PST
DTSTART:20231105T090000
END:STANDARD
BEGIN:DAYLIGHT
TZOFFSETFROM:-0800
TZOFFSETTO:-0700
TZNAME:PDT
DTSTART:20240310T100000
END:DAYLIGHT
BEGIN:STANDARD
TZOFFSETFROM:-0700
TZOFFSETTO:-0800
TZNAME:PST
DTSTART:20241103T090000
END:STANDARD
END:VTIMEZONE
BEGIN:VEVENT
DTSTART;TZID=America/Los_Angeles:20230510T130000
DTEND;TZID=America/Los_Angeles:20230522T133000
DTSTAMP:20260425T160251
CREATED:20230508T191652Z
LAST-MODIFIED:20230508T191652Z
UID:8899-1683723600-1684762200@chssc.org
SUMMARY:PBS Screening the Award Winning Documentary TYRUS!
DESCRIPTION:Tyrus Wong: American Masters\, Episode #3102 \nWednesday\, May 10\, 1:00pm on KCET\nFriday\, May 12\, 4:00pm & 9:00pm on PBS SoCal World\nSaturday\, May 13\, 5:00am & 11:00am on PBS SoCal World\nFriday\, May 19\, 8:00pm on PBS SoCal 2\nSaturday\, May 20\, 4:00pm & 10:00pm on PBS SoCal 2\nMonday\, May 22\, 2:00am\, 7:00am & 1:30pm on PBS SoCal 2\n\n \nCheck the PBS listings in your area for additional screenings.\n\n \nIf you would like your own copy of the documentary\, DVD’s signed by\nthe writer.director Pamela Tom are still available on etsy.\nThey are $24.99 and make great gifts and include complimentary gift wrap!\netsy.com/shop/tyruswong
URL:https://chssc.org/event/pbs-screening-the-award-winning-documentary-tyrus/
LOCATION:PBS
END:VEVENT
BEGIN:VEVENT
DTSTART;TZID=America/Los_Angeles:20230520T100000
DTEND;TZID=America/Los_Angeles:20230520T110000
DTSTAMP:20260425T160251
CREATED:20230516T203929Z
LAST-MODIFIED:20230516T205150Z
UID:8917-1684576800-1684580400@chssc.org
SUMMARY:Chinese Laundries in San Diego
DESCRIPTION:This Saturday\, May 20\, 2023 at 10 a.m.\, John Lee Wong will serve as the speaker for the upcoming edition of The Chinese American Experience & Beyond.  Through this Zoom presentation\, John will explore the history of Chinese laundries in San Diego\, drawing from memories of his family’s business on State Street. \nPlease register here to learn more about this fascinating topic: https://sdsu.zoom.us/meeting/register/tZEtcuGqpz8uG9bu_q7NQvXovw_Yyth07mLO#/registration
URL:https://chssc.org/event/8917/
LOCATION:Zoom
END:VEVENT
END:VCALENDAR