BEGIN:VCALENDAR
VERSION:2.0
PRODID:-//Chinese Historical Society of Southern California - ECPv6.15.20//NONSGML v1.0//EN
CALSCALE:GREGORIAN
METHOD:PUBLISH
X-ORIGINAL-URL:https://chssc.org
X-WR-CALDESC:Events for Chinese Historical Society of Southern California
REFRESH-INTERVAL;VALUE=DURATION:PT1H
X-Robots-Tag:noindex
X-PUBLISHED-TTL:PT1H
BEGIN:VTIMEZONE
TZID:America/Los_Angeles
BEGIN:DAYLIGHT
TZOFFSETFROM:-0800
TZOFFSETTO:-0700
TZNAME:PDT
DTSTART:20220313T100000
END:DAYLIGHT
BEGIN:STANDARD
TZOFFSETFROM:-0700
TZOFFSETTO:-0800
TZNAME:PST
DTSTART:20221106T090000
END:STANDARD
BEGIN:DAYLIGHT
TZOFFSETFROM:-0800
TZOFFSETTO:-0700
TZNAME:PDT
DTSTART:20230312T100000
END:DAYLIGHT
BEGIN:STANDARD
TZOFFSETFROM:-0700
TZOFFSETTO:-0800
TZNAME:PST
DTSTART:20231105T090000
END:STANDARD
BEGIN:DAYLIGHT
TZOFFSETFROM:-0800
TZOFFSETTO:-0700
TZNAME:PDT
DTSTART:20240310T100000
END:DAYLIGHT
BEGIN:STANDARD
TZOFFSETFROM:-0700
TZOFFSETTO:-0800
TZNAME:PST
DTSTART:20241103T090000
END:STANDARD
END:VTIMEZONE
BEGIN:VEVENT
DTSTART;TZID=America/Los_Angeles:20230228T063000
DTEND;TZID=America/Los_Angeles:20230228T193000
DTSTAMP:20260425T192804
CREATED:20230228T003116Z
LAST-MODIFIED:20230228T003324Z
UID:8613-1677565800-1677612600@chssc.org
SUMMARY:Presentation: What Your Mother Never Told You: Chinese American Traditions
DESCRIPTION:David Lei is putting on a great “lecture” tomorrow\, Tuesday February 28 at the San Francisco Public Library at 6:30 p.m. \nFor people who are unable to attend in person\, PLEASE register at the link below.  The link will take you to the SF Public Library website.
URL:https://chssc.org/event/presentation-what-your-mother-never-told-you-chinese-american-traditions/
LOCATION:San Francisco Public Library\, 100 Larkin Street\, San Francisco\, CA\, 94102\, United States
ORGANIZER;CN="San Francisco Public Library":MAILTO:info@sfpl.org
END:VEVENT
END:VCALENDAR